BEGIN:VCALENDAR
VERSION:2.0
PRODID:-//94.130.255.168//NONSGML kigkonsult.se iCalcreator 2.20//
CALSCALE:GREGORIAN
METHOD:PUBLISH
X-WR-TIMEZONE:UTC
BEGIN:VEVENT
UID:event339@Mittelschule Lauingen
DTSTAMP:20260425T182154Z
CATEGORIES:Allgemein
DESCRIPTION:Herbstferien\nKategorie: Allgemein\nICS-Link: https://mittelsch
 ule-lauingen.de/index.php?option=com_jem&view=event&id=339:herbstferien\n
DTSTART;VALUE=DATE:20201102
DTEND;VALUE=DATE:20201107
SUMMARY:Herbstferien
URL:https://mittelschule-lauingen.de/index.php?option=com_jem&view=event&id
 =339:herbstferien
END:VEVENT
END:VCALENDAR