BEGIN:VCALENDAR
VERSION:2.0
PRODID:-//94.130.255.168//NONSGML kigkonsult.se iCalcreator 2.20//
CALSCALE:GREGORIAN
METHOD:PUBLISH
X-WR-TIMEZONE:UTC
BEGIN:VEVENT
UID:event342@Mittelschule Lauingen
DTSTAMP:20260423T020336Z
CATEGORIES:Allgemein
DESCRIPTION:Berufsorientierung 8a/b\nKategorie: Allgemein\nICS-Link: https:
 //mittelschule-lauingen.de/index.php?option=com_jem&view=event&id=342:beru
 fsorientierung-8a-b\n
DTSTART;VALUE=DATE:20201117
DTEND;VALUE=DATE:20201118
SUMMARY:Berufsorientierung 8a/b
URL:https://mittelschule-lauingen.de/index.php?option=com_jem&view=event&id
 =342:berufsorientierung-8a-b
END:VEVENT
END:VCALENDAR