BEGIN:VCALENDAR
VERSION:2.0
PRODID:-//94.130.255.168//NONSGML kigkonsult.se iCalcreator 2.20//
CALSCALE:GREGORIAN
METHOD:PUBLISH
X-WR-TIMEZONE:UTC
BEGIN:VEVENT
UID:event330@Mittelschule Lauingen
DTSTAMP:20260420T150627Z
CATEGORIES:Allgemein
DESCRIPTION:Qualifizierender Abschluss Muttersprache\nKategorie: Allgemein
 \nICS-Link: https://mittelschule-lauingen.de/index.php?option=com_jem&view
 =event&id=330:qualifizierender-abschluss-muttersprache\n
DTSTART;VALUE=DATE:20200619
DTEND;VALUE=DATE:20200620
SUMMARY:Qualifizierender Abschluss Muttersprache
URL:https://mittelschule-lauingen.de/index.php?option=com_jem&view=event&id
 =330:qualifizierender-abschluss-muttersprache
END:VEVENT
END:VCALENDAR