BEGIN:VCALENDAR
VERSION:2.0
PRODID:-//94.130.255.168//NONSGML kigkonsult.se iCalcreator 2.20//
CALSCALE:GREGORIAN
METHOD:PUBLISH
X-WR-TIMEZONE:UTC
BEGIN:VEVENT
UID:event333@Mittelschule Lauingen
DTSTAMP:20260423T174149Z
CATEGORIES:Allgemein
DESCRIPTION:Qualifizierender Abschluss Geschichte/Sozalkunde/Erdkunde und P
 hysik/Chemie/Biologie\nKategorie: Allgemein\nICS-Link: https://mittelschul
 e-lauingen.de/index.php?option=com_jem&view=event&id=333:qualifizierender-
 abschluss-geschichte-sozalkunde-erdkunde-und-physik-chemie-biologie\n
DTSTART;VALUE=DATE:20200709
DTEND;VALUE=DATE:20200710
SUMMARY:Qualifizierender Abschluss Geschichte/Sozalkunde/Erdkunde und Physi
 k/Chemie/Biologie
URL:https://mittelschule-lauingen.de/index.php?option=com_jem&view=event&id
 =333:qualifizierender-abschluss-geschichte-sozalkunde-erdkunde-und-physik-
 chemie-biologie
END:VEVENT
END:VCALENDAR