BEGIN:VCALENDAR
VERSION:2.0
PRODID:-//94.130.255.168//NONSGML kigkonsult.se iCalcreator 2.20//
CALSCALE:GREGORIAN
METHOD:PUBLISH
X-WR-TIMEZONE:UTC
BEGIN:VEVENT
UID:event412@Mittelschule Lauingen
DTSTAMP:20260420T121153Z
CATEGORIES:Allgemein
DESCRIPTION:Projektprüfung – 9. Klassen\nKategorie: Allgemein\nICS-Link: ht
 tps://mittelschule-lauingen.de/index.php?option=com_jem&view=event&id=412:
 projektpruefung---9-klassen\n
DTSTART;VALUE=DATE:20240419
DTEND;VALUE=DATE:20240427
SUMMARY:Projektprüfung – 9. Klassen
URL:https://mittelschule-lauingen.de/index.php?option=com_jem&view=event&id
 =412:projektpruefung---9-klassen
END:VEVENT
END:VCALENDAR